BEGIN:VCALENDAR
VERSION:2.0
PRODID:-//Integrated Care Concepts And Consultation - ECPv6.0.2//NONSGML v1.0//EN
CALSCALE:GREGORIAN
METHOD:PUBLISH
X-WR-CALNAME:Integrated Care Concepts And Consultation
X-ORIGINAL-URL:https://integratedcareconcepts.com
X-WR-CALDESC:Events for Integrated Care Concepts And Consultation
REFRESH-INTERVAL;VALUE=DURATION:PT1H
X-Robots-Tag:noindex
X-PUBLISHED-TTL:PT1H
BEGIN:VTIMEZONE
TZID:America/New_York
BEGIN:DAYLIGHT
TZOFFSETFROM:-0500
TZOFFSETTO:-0400
TZNAME:EDT
DTSTART:20210314T070000
END:DAYLIGHT
BEGIN:STANDARD
TZOFFSETFROM:-0400
TZOFFSETTO:-0500
TZNAME:EST
DTSTART:20211107T060000
END:STANDARD
END:VTIMEZONE
BEGIN:VEVENT
DTSTART;TZID=America/New_York:20211015T110000
DTEND;TZID=America/New_York:20211015T170000
DTSTAMP:20260423T203217
CREATED:20210916T174023Z
LAST-MODIFIED:20211015T142246Z
UID:10000005-1634295600-1634317200@integratedcareconcepts.com
SUMMARY:Montclair Office Ribbon Cutting
DESCRIPTION:The team at Integrated Care Concepts and Consultation is excited to invite you to our Montclair Office Ribbon Cutting on Friday\, October 15th\, from 11 AM to 5 PM \n\n\n\nSchedule Of The Day’s Events\n\n\n\n11amIntro To Art TherapyWith Heather Gebhardt12pmOpioid PragmaticsWith Marc Ackerman1pmRibbon Cutting Ceremony2pmBreathworkWith Laura Donovan3pmYogaWith Laura Donovan4pmReturning To Present In-Person Awareness: Moving From Trauma Brain To Learning BrainWith Our Founder Larry Thompson\n\n\n\nDescription Of The Day’s Events\n\n\n\nRibbon Cutting With The Montclair Chamber Of Commerce\n\n\n\nWe’ll be joined by members of the community and the local chamber of commerce to celebrate the ribbon-cutting ceremony. We’re excited to become a vibrant\, contributing community partner for our new Montclair home! \n\n\n\nFree Movement Classes\, Information Sessions\, And Continuing Education Opportunities\n\n\n\nWe’ll host a set of complimentary sessions throughout the day to share a bit of what Integrated Care Concepts and Consultation is all about. \n\n\n\nOur sessions will include the following offerings: \n\n\n\n\nReturning To Present In-Person Awareness: Moving From Trauma Brain To Learning BrainWith Our Founder Larry Thompson\n\n\n\nThis session will focus on our children returning to school in person and how the school staff\, educators\, and administration can support the return of a child’s brain from trauma brain to learning brain again. \n\n\n\nOpioid Epidemic PragmaticsWith Marc Ackerman\n\n\n\nThis session is open to the public\, and professionals who attend can earn 1 CEU. This workshop provides practice pragmatics in providing a foundational understanding of the territory of opioid use and practical guidance in supporting the client’s journey towards recovery. A variety of tools and resources will be presented that aid in the recovery of opioid addiction and help to interpret symptoms of withdrawal. \n\n\n\nIntro To Art TherapyWith Heather Gebhardt\n\n\n\nThis session explores the general basis and benefits of art therapy as well as the ways art therapy can support the healing journey of young people and adults. \n\n\n\nYogaWith Laura Donovan\n\n\n\nTaking time during our busy day to quiet the mental chatter\, find stillness\, and connect to ourselves and to the present is powerful; helping us to regulate our mood\, decrease stress\, and feel more centered. Yoga is a practice to aid us in this calming process. \n\n\n\nThis session is 45 minutes of slow\, flowing movements and gentle stretching. The session is beginner-friendly\, focusing on movements for stress management and guided meditations for emotional health. \n\n\n\nBreathworkWith Laura Donovan\n\n\n\nWhen we practice pranayama – regulation of the breath – we are activating and influencing the parasympathetic nervous system\, commonly known as the “relaxation response”\, reducing stress and all its negative effects on our bodies and minds. As a result\, we become more focused and still\, helping us to have resilience in challenging moments of adversity. \n\n\n\nThis session is 30 minutes of focused breathing and attention to the present moment for self-care and deep relaxation. This session will introduce you to meditation and breathing techniques to encourage healing\, rest\, calm\, and tranquility. \n\n\n\n\n\nSession Registration\n\n\n\nSession capacity is limited. We encourage you to register ahead of the event. \n\n\n\n\nA 20–40% Off Sale At Our Mindfulness Boutique\n\n\n\nGrow your own mindfulness practices by shopping the sale in our one-of-a-kind boutique. From singing bowls to incense and essential oils to CDs\, books\, and clothing suitable for meditation and yoga\, we have everything you need to support your mind-body practice. \n\n\n\nRefreshments\, Food\, And Swag Bags For Attendees\n\n\n\nWe’ll serve light refreshments and a catered food selection. Plus\, attendees will receive swag bags with complementary items for attending! \n\n\n\nWe look forward to seeing you there!
URL:https://integratedcareconcepts.com/event/montclair-office-ribbon-cutting/
LOCATION:Montclair
CATEGORIES:Event
ATTACH;FMTTYPE=image/jpeg:https://integratedcareconcepts.com/wp-content/uploads/montclair.jpg
END:VEVENT
END:VCALENDAR