BEGIN:VCALENDAR
VERSION:2.0
PRODID:-//Integrated Care Concepts And Consultation - ECPv6.15.20//NONSGML v1.0//EN
CALSCALE:GREGORIAN
METHOD:PUBLISH
X-ORIGINAL-URL:https://integratedcareconcepts.com
X-WR-CALDESC:Events for Integrated Care Concepts And Consultation
REFRESH-INTERVAL;VALUE=DURATION:PT1H
X-Robots-Tag:noindex
X-PUBLISHED-TTL:PT1H
BEGIN:VTIMEZONE
TZID:America/New_York
BEGIN:DAYLIGHT
TZOFFSETFROM:-0500
TZOFFSETTO:-0400
TZNAME:EDT
DTSTART:20240310T070000
END:DAYLIGHT
BEGIN:STANDARD
TZOFFSETFROM:-0400
TZOFFSETTO:-0500
TZNAME:EST
DTSTART:20241103T060000
END:STANDARD
BEGIN:DAYLIGHT
TZOFFSETFROM:-0500
TZOFFSETTO:-0400
TZNAME:EDT
DTSTART:20250309T070000
END:DAYLIGHT
BEGIN:STANDARD
TZOFFSETFROM:-0400
TZOFFSETTO:-0500
TZNAME:EST
DTSTART:20251102T060000
END:STANDARD
BEGIN:DAYLIGHT
TZOFFSETFROM:-0500
TZOFFSETTO:-0400
TZNAME:EDT
DTSTART:20260308T070000
END:DAYLIGHT
BEGIN:STANDARD
TZOFFSETFROM:-0400
TZOFFSETTO:-0500
TZNAME:EST
DTSTART:20261101T060000
END:STANDARD
BEGIN:DAYLIGHT
TZOFFSETFROM:-0500
TZOFFSETTO:-0400
TZNAME:EDT
DTSTART:20270314T070000
END:DAYLIGHT
BEGIN:STANDARD
TZOFFSETFROM:-0400
TZOFFSETTO:-0500
TZNAME:EST
DTSTART:20271107T060000
END:STANDARD
END:VTIMEZONE
BEGIN:VEVENT
DTSTART;TZID=America/New_York:20260402T130000
DTEND;TZID=America/New_York:20260402T140000
DTSTAMP:20260420T221055
CREATED:20260323T141039Z
LAST-MODIFIED:20260323T141043Z
UID:8976-1775134800-1775138400@integratedcareconcepts.com
SUMMARY:Virtual Open House - Integrated Adolescence South
DESCRIPTION:Learn more about our new Toms River location! Have a cup of coffee on us – $5 Dunkin Donuts Gift card will be sent to all attendees following the event. \n\n\n\nPREREGISTRATION REQUIRED
URL:https://integratedcareconcepts.com/event/virtual-open-house-integrated-adolescence-south/
CATEGORIES:Open House
ATTACH;FMTTYPE=image/jpeg:https://integratedcareconcepts.com/wp-content/uploads/toms-river.jpg
END:VEVENT
BEGIN:VEVENT
DTSTART;TZID=America/New_York:20260324T120000
DTEND;TZID=America/New_York:20260324T140000
DTSTAMP:20260420T221055
CREATED:20260227T142034Z
LAST-MODIFIED:20260227T142819Z
UID:8883-1774353600-1774360800@integratedcareconcepts.com
SUMMARY:NJIMHC Walk Up Event
DESCRIPTION:Join us for a presentation on the hidden risks of cannabis use:Recognizing cannabis-related psychosis in trauma-informed care. \n\n\n\nPresented by Larry Thompson\, LCSW & Brett Benedetti LAC\, NCC \n\n\n\nPresented By:
URL:https://integratedcareconcepts.com/event/njimhc-walk-up-event-risks-of-cannabis-use/
LOCATION:Mar Belo Restaurant\, 611 Broadway\, Long Branch\, New Jersey\, 07740
CATEGORIES:Presentation
ATTACH;FMTTYPE=image/jpeg:https://integratedcareconcepts.com/wp-content/uploads/walk-up-event.jpg
END:VEVENT
BEGIN:VEVENT
DTSTART;TZID=America/New_York:20260320T100000
DTEND;TZID=America/New_York:20260320T140000
DTSTAMP:20260420T221055
CREATED:20260106T015626Z
LAST-MODIFIED:20260106T020718Z
UID:8850-1774000800-1774015200@integratedcareconcepts.com
SUMMARY:Mind-Body Wellness in Clinical Care
DESCRIPTION:Seminar includes: \n\n\n\n\n2 CEU Presentation\n\n\n\nA Meditative Experience\n\n\n\nLight Fare Lunch
URL:https://integratedcareconcepts.com/event/mind-body-wellness-in-clinical-care/
LOCATION:1 Radar Way\, Tinton Falls\, New Jersey\, 07724
CATEGORIES:CEU Seminar
ATTACH;FMTTYPE=image/jpeg:https://integratedcareconcepts.com/wp-content/uploads/free-professional-wellness-series-2026.jpg
END:VEVENT
BEGIN:VEVENT
DTSTART;TZID=America/New_York:20260319T110000
DTEND;TZID=America/New_York:20260319T130000
DTSTAMP:20260420T221055
CREATED:20260301T171554Z
LAST-MODIFIED:20260309T134359Z
UID:8890-1773918000-1773925200@integratedcareconcepts.com
SUMMARY:Lunch and Learn
DESCRIPTION:Our Lunch & Learn series with SCAN provides older adults with a chance to gather\, enjoy lunch\, and take part in an informative presentation focused on topics that support wellness\, mental health\, and everyday quality of life. These sessions are designed to encourage learning\, conversation\, and community connection in a relaxed setting. \n\n\n\nAgenda: \n\n\n\n\nLearn more about NJASC\n\n\n\nHear what NJ DoAS has to offer\n\n\n\nShare your ideas & knowledge\n\n\n\nGet to know your fellow aging professionals!\n\n\n\nAnd more!!!\n\n\n\n\nNetworking lunch to follow \n\n\n\nRegistration Required! \n\n\n\nQuestions? Email NJASC25@gmail.com
URL:https://integratedcareconcepts.com/event/lunch-and-learn-20260319/
LOCATION:Church of the Precious Blood Parish Center\, 72 Riverdale Avenue\, Monmouth Beach\, New Jersey\, 07750
CATEGORIES:Event
ATTACH;FMTTYPE=image/jpeg:https://integratedcareconcepts.com/wp-content/uploads/lunch-and-learn-2.jpg
END:VEVENT
BEGIN:VEVENT
DTSTART;TZID=America/New_York:20260303T080000
DTEND;TZID=America/New_York:20260303T110000
DTSTAMP:20260420T221055
CREATED:20260212T212556Z
LAST-MODIFIED:20260223T174646Z
UID:8867-1772524800-1772535600@integratedcareconcepts.com
SUMMARY:Caring With Love: Integrated Adolescence Open House
DESCRIPTION:Learn more about our IOP/PHP Adolescent Program.
URL:https://integratedcareconcepts.com/event/caring-with-love-integrated-adolescence-open-house/
LOCATION:Toms River\, 52 Hyers Street\, Toms River\, NJ\, 08753
CATEGORIES:Open House
ATTACH;FMTTYPE=image/jpeg:https://integratedcareconcepts.com/wp-content/uploads/ia-open-house2.jpg
END:VEVENT
BEGIN:VEVENT
DTSTART;TZID=America/New_York:20260227T100000
DTEND;TZID=America/New_York:20260227T140000
DTSTAMP:20260420T221055
CREATED:20260106T015129Z
LAST-MODIFIED:20260106T020639Z
UID:8845-1772186400-1772200800@integratedcareconcepts.com
SUMMARY:Managing Stress Energy in the Body
DESCRIPTION:Seminar includes: \n\n\n\n\n2 CEU Presentation\n\n\n\nA Meditative Experience\n\n\n\nLight Fare Lunch
URL:https://integratedcareconcepts.com/event/managing-stress-energy-in-the-body/
LOCATION:1 Radar Way\, Tinton Falls\, New Jersey\, 07724
CATEGORIES:CEU Seminar
ATTACH;FMTTYPE=image/jpeg:https://integratedcareconcepts.com/wp-content/uploads/free-professional-wellness-series-2026.jpg
END:VEVENT
BEGIN:VEVENT
DTSTART;TZID=America/New_York:20260120T110000
DTEND;TZID=America/New_York:20260120T140000
DTSTAMP:20260420T221055
CREATED:20251218T192242Z
LAST-MODIFIED:20251222T204630Z
UID:8827-1768906800-1768917600@integratedcareconcepts.com
SUMMARY:A Day of Self Care
DESCRIPTION:Join us for a free event for our warm network of mental health professionals including: \n\n\n\n\n2 CEU Mindfulness presentation\n\n\n\nMeditative relaxation experience\n\n\n\nLight fare lunch
URL:https://integratedcareconcepts.com/event/a-day-of-self-care/
LOCATION:1 Radar Way\, Tinton Falls\, New Jersey\, 07724
CATEGORIES:Event
ATTACH;FMTTYPE=image/jpeg:https://integratedcareconcepts.com/wp-content/uploads/a-day-of-self-care-2026.jpg
END:VEVENT
BEGIN:VEVENT
DTSTART;TZID=America/New_York:20251209T120000
DTEND;TZID=America/New_York:20251209T140000
DTSTAMP:20260420T221055
CREATED:20251114T145202Z
LAST-MODIFIED:20251114T145204Z
UID:8783-1765281600-1765288800@integratedcareconcepts.com
SUMMARY:NJIMHC Walk Up Event
DESCRIPTION:Hosted By:
URL:https://integratedcareconcepts.com/event/njimhc-walk-up-event-20251229/
LOCATION:Mar Belo Restaurant\, 611 Broadway\, Long Branch\, New Jersey\, 07740
CATEGORIES:CEU Seminar
ATTACH;FMTTYPE=image/jpeg:https://integratedcareconcepts.com/wp-content/uploads/njimhc-walk-up-event.jpg
END:VEVENT
BEGIN:VEVENT
DTSTART;TZID=America/New_York:20251110T120000
DTEND;TZID=America/New_York:20251110T140000
DTSTAMP:20260420T221055
CREATED:20251103T214617Z
LAST-MODIFIED:20251103T214901Z
UID:8768-1762776000-1762783200@integratedcareconcepts.com
SUMMARY:Mind-Body Practices and Trauma-Informed Yoga Integrated into Clinical Care for All Ages
DESCRIPTION:Join representatives from Turnbridge and Integrated Care Concepts for lunch\, an informative presentation\, discussion\, and connection.  \n\n\n\nAccording to the 2025 Mental Health America State of Mental Health report\, New Jersey enjoys one of the nation’s lowest levels of mental health and substance use disorders. However\, the Garden State also ranks in the lower half of states when it comes to treatment access and unmet needs for adults and adolescents experiencing behavioral health conditions. \n\n\n\nOrganizations like Turnbridge and Integrated Care Concepts are making vital high-quality treatment resources available to individuals and families here in New Jersey and beyond. Join us for an informative presentation and question-and-answer session where we will learn about today’s mental health and substance use disorder landscape\, how treatment providers are identifying and addressing the pervasive issue of trauma\, and the continuum of care services offered by these providers. \n\n\n\nEnjoy a delicious lunch\, conversation\, and time with friends and peers. \n\n\n\nRSVPPlease email Annmarie Szumisski at aszuminski@turnbridge.com to let us know you will be joining.
URL:https://integratedcareconcepts.com/event/mind-body-practices-and-trauma-informed-yoga-integrated-into-clinical-care-for-all-ages/
LOCATION:Tabor Road Tavern\, 510 Tabor Rd.\, Morris Plains\, New Jersey\, 07950
CATEGORIES:Event
ATTACH;FMTTYPE=image/jpeg:https://integratedcareconcepts.com/wp-content/uploads/mind-body-practices-and-trauma-informed-yoga-integrated-into-clinical-care-for-all-ages.jpg
END:VEVENT
BEGIN:VEVENT
DTSTART;TZID=America/New_York:20251101T103000
DTEND;TZID=America/New_York:20251101T123000
DTSTAMP:20260420T221055
CREATED:20251017T203310Z
LAST-MODIFIED:20251017T204011Z
UID:8708-1761993000-1762000200@integratedcareconcepts.com
SUMMARY:Taking the Stress out of Property Tax Appeals
DESCRIPTION:Attendees can expect: \n\n\n\n\nBrunch served\n\n\n\nPresentation and Q&A\n\n\n\nMindfulness activity with Owen Cornette\, RYT\n\n\n\n\nPresented by: Tristin Fleck & Elizabeth Giordano\, Realtor Associates
URL:https://integratedcareconcepts.com/event/taking-the-stress-out-of-property-tax-appeals/
CATEGORIES:Fundraiser
ATTACH;FMTTYPE=image/jpeg:https://integratedcareconcepts.com/wp-content/uploads/taking-the-stress-out-of-property-tax-appeals.jpg
END:VEVENT
BEGIN:VEVENT
DTSTART;TZID=America/New_York:20251029T120000
DTEND;TZID=America/New_York:20251029T160000
DTSTAMP:20260420T221055
CREATED:20250827T160408Z
LAST-MODIFIED:20250827T160409Z
UID:8622-1761739200-1761753600@integratedcareconcepts.com
SUMMARY:Ocean County College Agency Day
DESCRIPTION:Connect. Learn. Thrive. Discover Local Resources in Monmouth & Ocean Counties! Join Us – Free & Open to the Community For more information\, contact: Cameron Scarano\, 732-255-0400 ext. 2372 or email: cscarano@ocean.edu
URL:https://integratedcareconcepts.com/event/ocean-county-college-agency-day/
LOCATION:Ocean County College\, 1 College Drive\, Toms River\, New Jersey\, 08754
CATEGORIES:Event
ATTACH;FMTTYPE=image/jpeg:https://integratedcareconcepts.com/wp-content/uploads/ocean-county-college-agency-day.jpg
END:VEVENT
BEGIN:VEVENT
DTSTART;TZID=America/New_York:20251029T100000
DTEND;TZID=America/New_York:20251029T120000
DTSTAMP:20260420T221055
CREATED:20250926T153452Z
LAST-MODIFIED:20251024T204157Z
UID:8670-1761732000-1761739200@integratedcareconcepts.com
SUMMARY:NJIMHC Walk Up Event
DESCRIPTION:Mind-body practices and trauma informed yoga integrated into clinical care for all ages. \n\n\n\nHosted By:
URL:https://integratedcareconcepts.com/event/njimhc-walk-up-event/
LOCATION:Bottos Italian Restaurant\, 1411 Kings Highway\, Swedesboro\, New Jersey\, 08085
CATEGORIES:CEU Seminar
ATTACH;FMTTYPE=image/jpeg:https://integratedcareconcepts.com/wp-content/uploads/njimhc-walk-up-event.jpg
END:VEVENT
BEGIN:VEVENT
DTSTART;TZID=America/New_York:20251028T083000
DTEND;TZID=America/New_York:20251028T170000
DTSTAMP:20260420T221055
CREATED:20250827T142929Z
LAST-MODIFIED:20250926T125802Z
UID:8582-1761640200-1761670800@integratedcareconcepts.com
SUMMARY:Beyond the Binary
DESCRIPTION:Join us for a transformative and affirming gathering that marks a milestone in mental health advocacy—New Jersey’s first LGBTQ+ Mental Health Conference centered on intersectionality. Beyond the Binary is more than a conference. It’s a space for healing\, a catalyst for change\, and a collective call to action for mental health professionals\, advocates\, and allies. At a time when the LGBTQ+ community—especially trans and nonbinary individuals—faces growing systemic challenges\, this convening offers urgently needed dialogue\, tools\, and solidarity. \n\n\n\nWhat to Expect: \n\n\n\n\nChallenge monolithic approaches to mental health care by exploring the layered identities within LGBTQ+ communities.\n\n\n\nHighlight urgent disparities—from trans suicide rates to the compounded trauma of hate crimes affecting Black and Brown trans women.\n\n\n\nConfront internalized oppression and narratives like “queer enough” that restrict identity\, authenticity\, and access to support.\n\n\n\nEmpower clinicians and allies with tools to provide affirming\, trauma-informed\, intersectional care.\n\n\n\n\nToo often\, LGBTQ+ individuals are seen through a single lens. This conference honors our multiplicity. Through education\, community care\, and shared experiences\, we will deepen our understanding and strengthen our collective resilience. Whether you’re a clinician\, advocate\, or ally\, this space is for you—to listen\, to learn\, to heal\, and to grow. Together\, we’ll build beyond binaries and redefine what truly affirming mental health care looks like. \n\n\n\nWould you like to be a presenter? We’re taking applications to present until September 12!
URL:https://integratedcareconcepts.com/event/beyond-the-binary/
LOCATION:Kean University\, 1075 Morris Ave\, Union\, New Jersey\, 07083
CATEGORIES:Conference
ATTACH;FMTTYPE=image/jpeg:https://integratedcareconcepts.com/wp-content/uploads/beyond-the-binary.jpg
END:VEVENT
BEGIN:VEVENT
DTSTART;TZID=America/New_York:20251021T080000
DTEND;TZID=America/New_York:20251022T163000
DTSTAMP:20260420T221055
CREATED:20250827T155512Z
LAST-MODIFIED:20250827T162241Z
UID:8617-1761033600-1761150600@integratedcareconcepts.com
SUMMARY:NJSBA's Workshop 2025
DESCRIPTION:Education excellence will take center stage at Workshop 2025! Join us from Monday\, Oct. 20 through Thursday\, Oct. 23 at the Atlantic City Convention Center for a conference unlike any other. Registration and housing are open.
URL:https://integratedcareconcepts.com/event/njsbas-workshop-2025/
LOCATION:Atlantic City Convention Center\, 1 Convention Blvd\, Atlantic City\, New Jersey\, 08401
CATEGORIES:Conference
ATTACH;FMTTYPE=image/jpeg:https://integratedcareconcepts.com/wp-content/uploads/njsba-workshop-2025.jpg
END:VEVENT
BEGIN:VEVENT
DTSTART;TZID=America/New_York:20251019T110000
DTEND;TZID=America/New_York:20251019T150000
DTSTAMP:20260420T221055
CREATED:20251001T013948Z
LAST-MODIFIED:20251001T013950Z
UID:8704-1760871600-1760886000@integratedcareconcepts.com
SUMMARY:Monmouth County MOMS - 2025 Fall Festival
DESCRIPTION:Pumpkin Painting Contest\n\n\n\nDJ + Kids Entertainment\n\n\n\nFall Themed Arts + Crafts Station\n\n\n\nNew Mom + Baby Resources\n\n\n\nOver 80 Local Vendors\n\n\n\nIndoor Fun Zone Kids Activities\n\n\n\nCocktail Bar Sweet Treats\n\n\n\nOutdoor Fun Zone Trucks\, Bounce Houses\n\n\n\nHalloween Costume Contest\n\n\n\nFestival Food Local Restaurants
URL:https://integratedcareconcepts.com/event/monmouth-county-moms-fall-festival/
LOCATION:Bell Works\, 101 Crawfords Corner Road\, Holmdel\, New Jersey\, 07733
CATEGORIES:Event
ATTACH;FMTTYPE=image/jpeg:https://integratedcareconcepts.com/wp-content/uploads/monmouth-county-moms-fall-festival.jpg
END:VEVENT
BEGIN:VEVENT
DTSTART;TZID=America/New_York:20251018T100000
DTEND;TZID=America/New_York:20251018T150000
DTSTAMP:20260420T221055
CREATED:20250827T154621Z
LAST-MODIFIED:20250827T154715Z
UID:8613-1760781600-1760799600@integratedcareconcepts.com
SUMMARY:Ocean County Library's LGBTQIA+ Resource Fair
DESCRIPTION:Join us for Ocean County Library’s 2nd Annual LGBTQIA+ Resource Fair.  The purpose of the Fair is to connect members of the LGBTQIA+ community and their allies with agencies that are available to assist them.  Representatives from LGBTQIA+ supportive organizations will be available to describe their services and answer your questions.  Special guest author Robyn Gigl will speak at 2:00.  Sponsored by the Ocean County Library Foundation.  
URL:https://integratedcareconcepts.com/event/ocean-county-library-lgbtqia-resource-fair-202501018/
LOCATION:Ocean County Library – Toms River Branch\, 101 Washington Street\, Toms River\, New Jersey\, 08753
CATEGORIES:Event
ATTACH;FMTTYPE=image/jpeg:https://integratedcareconcepts.com/wp-content/uploads/ocean-county-librarys-lgbtqia-resource-fair.jpg
END:VEVENT
BEGIN:VEVENT
DTSTART;TZID=America/New_York:20251017T130000
DTEND;TZID=America/New_York:20251017T150000
DTSTAMP:20260420T221055
CREATED:20251001T012531Z
LAST-MODIFIED:20251001T012532Z
UID:8698-1760706000-1760713200@integratedcareconcepts.com
SUMMARY:Alternatives for Chronic Pain Management
DESCRIPTION:Panel Discussion: Alternatives for pain management \n\n\n\nProfessionals from local practices discuss the benefits of a multidisciplinary approach to chronic pain management. Panelists will include local agencies that have a goal of wellness and any alternative routes to Pain Management. \n\n\n\nBring your pain management questions! \n\n\n\nLight refreshments\, raffles and giveaways! \n\n\n\nTo register\, contact:Kim Gorski732-495-2454
URL:https://integratedcareconcepts.com/event/alternatives-for-chronic-pain-management/
LOCATION:Bayshore Senior Day Center\, 100 Main St\, Keansburg\, New Jersey\, 07734
CATEGORIES:Event
ATTACH;FMTTYPE=image/jpeg:https://integratedcareconcepts.com/wp-content/uploads/alternatives-for-chronic-pain-management.jpg
END:VEVENT
BEGIN:VEVENT
DTSTART;TZID=America/New_York:20251017T130000
DTEND;TZID=America/New_York:20251017T150000
DTSTAMP:20260420T221055
CREATED:20251001T011450Z
LAST-MODIFIED:20251001T011619Z
UID:8692-1760706000-1760713200@integratedcareconcepts.com
SUMMARY:Falling Leaves Painting Workshop
DESCRIPTION:Join us for a relaxing afternoon of leaf painting\, gratitude\, conversation\, & snacks. \n\n\n\n \n\n\n\nRSVP SCAN — 732.542.1326 \n\n\n\nOR EMAIL OFFICE@SCANNJ.ORG
URL:https://integratedcareconcepts.com/event/falling-leaves-painting-workshop/
CATEGORIES:Event
ATTACH;FMTTYPE=image/jpeg:https://integratedcareconcepts.com/wp-content/uploads/falling-leaves-painting-workshop.jpg
END:VEVENT
BEGIN:VEVENT
DTSTART;TZID=America/New_York:20251015T093000
DTEND;TZID=America/New_York:20251015T130000
DTSTAMP:20260420T221055
CREATED:20250206T145929Z
LAST-MODIFIED:20250206T151236Z
UID:8304-1760520600-1760533200@integratedcareconcepts.com
SUMMARY:Lunch & Learn
DESCRIPTION:To register or for more information\, call 732.542.1326 or visit SCANNJ.ORG
URL:https://integratedcareconcepts.com/event/lunch-and-learn-oct15/
LOCATION:St. Andrew United Methodist Church\, 1528 Church Rd\, Toms River\, New Jersey
CATEGORIES:Presentation
ATTACH;FMTTYPE=image/jpeg:https://integratedcareconcepts.com/wp-content/uploads/lunch-and-learn.jpg
END:VEVENT
BEGIN:VEVENT
DTSTART;TZID=America/New_York:20251013T090000
DTEND;TZID=America/New_York:20251013T103000
DTSTAMP:20260420T221055
CREATED:20250926T150228Z
LAST-MODIFIED:20250926T150230Z
UID:8664-1760346000-1760351400@integratedcareconcepts.com
SUMMARY:Integrated Adolescence Open House
DESCRIPTION:Learn more about our IOP/PHP Adolescent Program. \n\n\n\n\nMeet the team\n\n\n\nLight food and refreshments served
URL:https://integratedcareconcepts.com/event/integrated-adolescence-open-house-2025-1/
LOCATION:Tinton Falls
CATEGORIES:Open House
ATTACH;FMTTYPE=image/jpeg:https://integratedcareconcepts.com/wp-content/uploads/ia-open-house2.jpg
END:VEVENT
BEGIN:VEVENT
DTSTART;TZID=America/New_York:20251012T093000
DTEND;TZID=America/New_York:20251012T170000
DTSTAMP:20260420T221055
CREATED:20250827T145759Z
LAST-MODIFIED:20250827T145800Z
UID:8597-1760261400-1760288400@integratedcareconcepts.com
SUMMARY:Breakthrough T1D Walk
DESCRIPTION:Event Coordinator: \n\n\n\nCara SalakiEmail | 848-229-7868
URL:https://integratedcareconcepts.com/event/breakthrough-t1d-walk/
LOCATION:Avon-by-the-Sea Boardwalk\, Intersection of Woodland Ave and Ocean Ave\, Avon-by-the-Sea\, New Jersey\, 07717
CATEGORIES:Event
ATTACH;FMTTYPE=image/jpeg:https://integratedcareconcepts.com/wp-content/uploads/breakthrough-t1d-walk.jpg
END:VEVENT
BEGIN:VEVENT
DTSTART;TZID=America/New_York:20251009T100000
DTEND;TZID=America/New_York:20251009T120000
DTSTAMP:20260420T221055
CREATED:20250827T144718Z
LAST-MODIFIED:20250827T144807Z
UID:8588-1760004000-1760011200@integratedcareconcepts.com
SUMMARY:NJASC Lunch and Learn
DESCRIPTION:Agenda: \n\n\n\n\nLearn more about NJASC\n\n\n\nHear what NJ DoAS has to offer\n\n\n\nShare your ideas & knowledge\n\n\n\nGet to know your fellow aging professionals!\n\n\n\nAnd more!!!\n\n\n\n\nNetworking lunch to follow \n\n\n\nRegistration Required! Registration will close on Friday\, September 26\, 2025. \n\n\n\nQuestions? Email NJASC25@gmail.com
URL:https://integratedcareconcepts.com/event/njasc-lunch-and-learn/
LOCATION:Middletown Senior Center\, 900 Leonardville Road\, Leonardo\, New Jersey\, 07737
CATEGORIES:Event
ATTACH;FMTTYPE=image/jpeg:https://integratedcareconcepts.com/wp-content/uploads/njasc-lunch-learn.jpg
END:VEVENT
BEGIN:VEVENT
DTSTART;TZID=America/New_York:20251008T130000
DTEND;TZID=America/New_York:20251008T160000
DTSTAMP:20260420T221055
CREATED:20250930T211253Z
LAST-MODIFIED:20250930T211331Z
UID:8685-1759928400-1759939200@integratedcareconcepts.com
SUMMARY:Fall 2025 Career & Internship Fair
DESCRIPTION:Fall 2025 Career & Internship Fair
URL:https://integratedcareconcepts.com/event/fall-2025-career-internship-fair/
LOCATION:OceanFirst Bank Center\, 400 Cedar Avenue\, West Long Branch\, New Jersey\, 07764
CATEGORIES:Event
ATTACH;FMTTYPE=image/jpeg:https://integratedcareconcepts.com/wp-content/uploads/fall-2025-career-internship-fair.jpg
END:VEVENT
BEGIN:VEVENT
DTSTART;TZID=America/New_York:20250918T093000
DTEND;TZID=America/New_York:20250918T133000
DTSTAMP:20260420T221055
CREATED:20250827T141520Z
LAST-MODIFIED:20250827T141522Z
UID:8579-1758187800-1758202200@integratedcareconcepts.com
SUMMARY:Lunch & Learn
DESCRIPTION:To register or for more information\, call 732.542.1326 or visit SCANNJ.ORG
URL:https://integratedcareconcepts.com/event/lunch-learn-2025-9-18/
LOCATION:St. George\, 1033 W Park Ave\, Ocean Township\, NJ
CATEGORIES:Presentation
ATTACH;FMTTYPE=image/jpeg:https://integratedcareconcepts.com/wp-content/uploads/lunch-and-learn.jpg
END:VEVENT
BEGIN:VEVENT
DTSTART;TZID=America/New_York:20250906T100000
DTEND;TZID=America/New_York:20250906T160000
DTSTAMP:20260420T221055
CREATED:20250827T140806Z
LAST-MODIFIED:20250827T140839Z
UID:8569-1757152800-1757174400@integratedcareconcepts.com
SUMMARY:Stephanie Nicole Parze Foundation Vendor Fair
DESCRIPTION:Our vendor fair benefits survivors of domestic violence\, sexual abuse and families of missing loved ones.
URL:https://integratedcareconcepts.com/event/stephanie-nicole-parze-vendor-fair/
LOCATION:Freehold Raceway Mall\, 3710 Rt. 9 South
CATEGORIES:Event
ATTACH;FMTTYPE=image/jpeg:https://integratedcareconcepts.com/wp-content/uploads/stephanie-nicole-parze-vendor-fair.jpg
END:VEVENT
BEGIN:VEVENT
DTSTART;TZID=America/New_York:20250828T150000
DTEND;TZID=America/New_York:20250828T163000
DTSTAMP:20260420T221055
CREATED:20250827T133353Z
LAST-MODIFIED:20250827T133429Z
UID:8565-1756393200-1756398600@integratedcareconcepts.com
SUMMARY:2NDFLOOR's End of Summer Event
DESCRIPTION:Come join us for a fun-filled day at the Brookdale Community College’s Esports Arena as we bid farewell to the summer. This in-person event features exciting activities\, refreshments\, 2NDFLOOR swag\, and great company! The event is open to youth ages 10 to 24. Please note that participants under 18 must have a parent or guardian stay for the duration of the session. \n\n\n\nThe 2NDFLOOR End of Summer Event will feature tons of fun and interactive activities\, including: \n\n\n\n\nVideo games (PS5\, Xbox\, Nintendo\, VR\, arcade\, and computer games)\n\n\n\n Vendor tables\n\n\n\nLive stream broadcasting by Greater Than the Game\n\n\n\nA chance to share your input on 2NDFLOOR services\n\n\n\nThe opportunity to be among the first to learn about 2NDFLOOR’s game-changing news!
URL:https://integratedcareconcepts.com/event/2ndfloors-end-of-summer-event-2/
LOCATION:Warner Student Life Center\, Arena Drive Lot #7\, Middletown Township\, New Jersey\, 07738
CATEGORIES:Event
ATTACH;FMTTYPE=image/jpeg:https://integratedcareconcepts.com/wp-content/uploads/2ndfloors-end-of-summer-event.jpg
END:VEVENT
BEGIN:VEVENT
DTSTART;TZID=America/New_York:20250828T130000
DTEND;TZID=America/New_York:20250828T143000
DTSTAMP:20260420T221055
CREATED:20250827T132943Z
LAST-MODIFIED:20250827T133114Z
UID:8557-1756386000-1756391400@integratedcareconcepts.com
SUMMARY:2NDFLOOR's End of Summer Event
DESCRIPTION:Come join us for a fun-filled day at the Brookdale Community College’s Esports Arena as we bid farewell to the summer. This in-person event features exciting activities\, refreshments\, 2NDFLOOR swag\, and great company! The event is open to youth ages 10 to 24. Please note that participants under 18 must have a parent or guardian stay for the duration of the session. \n\n\n\nThe 2NDFLOOR End of Summer Event will feature tons of fun and interactive activities\, including: \n\n\n\n\nVideo games (PS5\, Xbox\, Nintendo\, VR\, arcade\, and computer games)\n\n\n\n Vendor tables\n\n\n\nLive stream broadcasting by Greater Than the Game\n\n\n\nA chance to share your input on 2NDFLOOR services\n\n\n\nThe opportunity to be among the first to learn about 2NDFLOOR’s game-changing news!
URL:https://integratedcareconcepts.com/event/2ndfloors-end-of-summer-event-1/
LOCATION:Warner Student Life Center\, Arena Drive Lot #7\, Middletown Township\, New Jersey\, 07738
CATEGORIES:Event
ATTACH;FMTTYPE=image/jpeg:https://integratedcareconcepts.com/wp-content/uploads/2ndfloors-end-of-summer-event.jpg
END:VEVENT
BEGIN:VEVENT
DTSTART;TZID=America/New_York:20250808T083000
DTEND;TZID=America/New_York:20250808T173000
DTSTAMP:20260420T221055
CREATED:20250729T171545Z
LAST-MODIFIED:20250729T171547Z
UID:8534-1754641800-1754674200@integratedcareconcepts.com
SUMMARY:New Jersey LGBTQ+ Youth Conference
DESCRIPTION:This FREE conference will include workshops focusing on Activism\, Mental Wellness\, LGBTQ+ History\, as well as youth-led and adult-led panels. We will have vendors with resources\, art breakout spaces\, a game room\, open mic opportunities and more!  \n\n\n\nWe’re thrilled to have George M. Johnson\, author of All Boys Aren’t Blue\, as our keynote speaker\, along with a lineup of workshops on knowing your rights\, LGBTQ+ history\, gaining skills for making change in your communities\, and more. \n\n\n\nTransportation: Transportation assistance provided for anyone who needs it-no matter where you are in New Jersey!  \n\n\n\nVolunteer Hours: 8 volunteer hours provided for all attendees \n\n\n\nIn addition to sessions for youth\, we will have a space for parents and guardians to work remotely if they are driving their child\, as well as two parent workshops for you to attend if interested.  \n\n\n\nRegistration for the conference is currently open\, and we are anticipating reaching our max capacity. I would love for you to share with your network of young people by sharing this link with anyone interested in attending!
URL:https://integratedcareconcepts.com/event/new-jersey-lgbtq-youth-conference/
LOCATION:Bell Works\, 101 Crawfords Corner Road\, Holmdel\, New Jersey\, 07733
CATEGORIES:Conference
ATTACH;FMTTYPE=image/jpeg:https://integratedcareconcepts.com/wp-content/uploads/new-jersey-lgbtq-youth-conference.jpg
END:VEVENT
BEGIN:VEVENT
DTSTART;TZID=America/New_York:20250717T100000
DTEND;TZID=America/New_York:20250717T130000
DTSTAMP:20260420T221055
CREATED:20250206T150714Z
LAST-MODIFIED:20250206T151221Z
UID:8313-1752746400-1752757200@integratedcareconcepts.com
SUMMARY:Lunch & Learn
DESCRIPTION:To register or for more information\, call 732.542.1326 or visit SCANNJ.ORG
URL:https://integratedcareconcepts.com/event/lunch-and-learn-4/
LOCATION:St. George\, 1033 W Park Ave\, Ocean Township\, NJ
CATEGORIES:Presentation
ATTACH;FMTTYPE=image/jpeg:https://integratedcareconcepts.com/wp-content/uploads/lunch-and-learn.jpg
END:VEVENT
BEGIN:VEVENT
DTSTART;TZID=America/New_York:20250714T100000
DTEND;TZID=America/New_York:20250714T130000
DTSTAMP:20260420T221055
CREATED:20250219T185009Z
LAST-MODIFIED:20250220T184035Z
UID:8361-1752487200-1752498000@integratedcareconcepts.com
SUMMARY:Integrated Student Success Summer Program
DESCRIPTION:Who:\n\n\n\n\nIncoming 6th\, 7th\, 8th Graders \n\n\n\nIncoming Freshman – Seniors \n\n\n\nRising College Freshman\n\n\n\n\nWhen:\n\n\n\n\nStarting in July\n\n\n\n3-hour Program\n\n\n\n2 days/week Mon-Thurs
URL:https://integratedcareconcepts.com/event/integrated-student-success-summer-program/
LOCATION:1 Radar Way\, Tinton Falls\, New Jersey\, 07724
CATEGORIES:Class
ATTACH;FMTTYPE=image/jpeg:https://integratedcareconcepts.com/wp-content/uploads/integrated-student-success-summer-program.jpg
END:VEVENT
END:VCALENDAR