BEGIN:VCALENDAR
VERSION:2.0
PRODID:-//Integrated Care Concepts And Consultation - ECPv6.0.2//NONSGML v1.0//EN
CALSCALE:GREGORIAN
METHOD:PUBLISH
X-ORIGINAL-URL:https://integratedcareconcepts.com
X-WR-CALDESC:Events for Integrated Care Concepts And Consultation
REFRESH-INTERVAL;VALUE=DURATION:PT1H
X-Robots-Tag:noindex
X-PUBLISHED-TTL:PT1H
BEGIN:VTIMEZONE
TZID:America/New_York
BEGIN:DAYLIGHT
TZOFFSETFROM:-0500
TZOFFSETTO:-0400
TZNAME:EDT
DTSTART:20230312T070000
END:DAYLIGHT
BEGIN:STANDARD
TZOFFSETFROM:-0400
TZOFFSETTO:-0500
TZNAME:EST
DTSTART:20231105T060000
END:STANDARD
BEGIN:DAYLIGHT
TZOFFSETFROM:-0500
TZOFFSETTO:-0400
TZNAME:EDT
DTSTART:20240310T070000
END:DAYLIGHT
BEGIN:STANDARD
TZOFFSETFROM:-0400
TZOFFSETTO:-0500
TZNAME:EST
DTSTART:20241103T060000
END:STANDARD
END:VTIMEZONE
BEGIN:VEVENT
DTSTART;TZID=America/New_York:20230622T090000
DTEND;TZID=America/New_York:20230622T163000
DTSTAMP:20260420T073610
CREATED:20220207T151727Z
LAST-MODIFIED:20220511T173724Z
UID:10000002-1687424400-1687451400@integratedcareconcepts.com
SUMMARY:New Jersey Integrated Mental Health Conference
DESCRIPTION:NJIMHC is a first-of-its-kind conference that brings together practitioners and leaders in mental health\, behavioral health\, and holistic wellness for a full day of continued education\, professional development\, and networking. \n\n\n\nSee njimhc.com for complete details about the conference.
URL:https://integratedcareconcepts.com/event/new-jersey-integrated-mental-health-conference/
LOCATION:Brookdale Community College\, 765 Newman Springs Rd.\, Lincroft\, New Jersey\, 07738
CATEGORIES:Event
ATTACH;FMTTYPE=image/jpeg:https://integratedcareconcepts.com/wp-content/uploads/njimhc.jpg
END:VEVENT
BEGIN:VEVENT
DTSTART;TZID=America/New_York:20240415T180000
DTEND;TZID=America/New_York:20240415T203000
DTSTAMP:20260420T073610
CREATED:20240319T212616Z
LAST-MODIFIED:20240319T212934Z
UID:10000042-1713204000-1713213000@integratedcareconcepts.com
SUMMARY:Symposium on Mental Health & Wellness
DESCRIPTION:Visit the link below to register: \n\n\n\nhttps://tinyurl.com/MCSPW2024
URL:https://integratedcareconcepts.com/event/symposium-on-mental-health-wellness/
LOCATION:Brookdale Community College\, 765 Newman Springs Rd.\, Lincroft\, New Jersey\, 07738
CATEGORIES:Event
ATTACH;FMTTYPE=image/jpeg:https://integratedcareconcepts.com/wp-content/uploads/beyou-bewell.jpg
END:VEVENT
BEGIN:VEVENT
DTSTART;TZID=America/New_York:20240620T080000
DTEND;TZID=America/New_York:20240620T163000
DTSTAMP:20260420T073610
CREATED:20240326T134145Z
LAST-MODIFIED:20240326T134147Z
UID:10000043-1718870400-1718901000@integratedcareconcepts.com
SUMMARY:New Jersey Integrated Mental Health Conference
DESCRIPTION:NJIMHC is a first-of-its-kind conference that brings together practitioners and leaders in mental health\, behavioral health\, and holistic wellness for a full day of continued education\, professional development\, and networking. \n\n\n\nSee njimhc.com for complete details about the conference.
URL:https://integratedcareconcepts.com/event/new-jersey-integrated-mental-health-conference-2024/
LOCATION:Brookdale Community College\, 765 Newman Springs Rd.\, Lincroft\, New Jersey\, 07738
CATEGORIES:Conference
ATTACH;FMTTYPE=image/jpeg:https://integratedcareconcepts.com/wp-content/uploads/njimhc2024.jpg
END:VEVENT
END:VCALENDAR