BEGIN:VCALENDAR
VERSION:2.0
PRODID:-//Integrated Care Concepts And Consultation - ECPv6.0.2//NONSGML v1.0//EN
CALSCALE:GREGORIAN
METHOD:PUBLISH
X-ORIGINAL-URL:https://integratedcareconcepts.com
X-WR-CALDESC:Events for Integrated Care Concepts And Consultation
REFRESH-INTERVAL;VALUE=DURATION:PT1H
X-Robots-Tag:noindex
X-PUBLISHED-TTL:PT1H
BEGIN:VTIMEZONE
TZID:America/New_York
BEGIN:DAYLIGHT
TZOFFSETFROM:-0500
TZOFFSETTO:-0400
TZNAME:EDT
DTSTART:20230312T070000
END:DAYLIGHT
BEGIN:STANDARD
TZOFFSETFROM:-0400
TZOFFSETTO:-0500
TZNAME:EST
DTSTART:20231105T060000
END:STANDARD
BEGIN:DAYLIGHT
TZOFFSETFROM:-0500
TZOFFSETTO:-0400
TZNAME:EDT
DTSTART:20240310T070000
END:DAYLIGHT
BEGIN:STANDARD
TZOFFSETFROM:-0400
TZOFFSETTO:-0500
TZNAME:EST
DTSTART:20241103T060000
END:STANDARD
BEGIN:DAYLIGHT
TZOFFSETFROM:-0500
TZOFFSETTO:-0400
TZNAME:EDT
DTSTART:20250309T070000
END:DAYLIGHT
BEGIN:STANDARD
TZOFFSETFROM:-0400
TZOFFSETTO:-0500
TZNAME:EST
DTSTART:20251102T060000
END:STANDARD
END:VTIMEZONE
BEGIN:VEVENT
DTSTART;TZID=America/New_York:20231024T080000
DTEND;TZID=America/New_York:20231024T170000
DTSTAMP:20260420T110437
CREATED:20231012T213648Z
LAST-MODIFIED:20231012T233637Z
UID:10000039-1698134400-1698166800@integratedcareconcepts.com
SUMMARY:New Jersey School Boards Association Conference 
DESCRIPTION:Come join us at the NJSBA conference in Atlantic City!
URL:https://integratedcareconcepts.com/event/new-jersey-school-boards-association-conference/
LOCATION:Atlantic City Convention Center\, 1 Convention Blvd\, Atlantic City\, New Jersey\, 08401
CATEGORIES:Conference
ATTACH;FMTTYPE=image/jpeg:https://integratedcareconcepts.com/wp-content/uploads/njsba.jpg
END:VEVENT
BEGIN:VEVENT
DTSTART;TZID=America/New_York:20241022T090000
DTEND;TZID=America/New_York:20241022T170000
DTSTAMP:20260420T110437
CREATED:20240924T165118Z
LAST-MODIFIED:20240924T165349Z
UID:10000053-1729587600-1729616400@integratedcareconcepts.com
SUMMARY:NJ School Boards Association Conference
DESCRIPTION:
URL:https://integratedcareconcepts.com/event/nj-school-boards-association-conference-22/
LOCATION:Atlantic City Convention Center\, 1 Convention Blvd\, Atlantic City\, New Jersey\, 08401
CATEGORIES:Conference
ATTACH;FMTTYPE=image/jpeg:https://integratedcareconcepts.com/wp-content/uploads/nj-school-boards-association-conference.jpg
END:VEVENT
BEGIN:VEVENT
DTSTART;TZID=America/New_York:20241023T090000
DTEND;TZID=America/New_York:20241023T170000
DTSTAMP:20260420T110437
CREATED:20240924T165329Z
LAST-MODIFIED:20240924T165329Z
UID:10000054-1729674000-1729702800@integratedcareconcepts.com
SUMMARY:NJ School Boards Association Conference
DESCRIPTION:
URL:https://integratedcareconcepts.com/event/nj-school-boards-association-conference/
LOCATION:Atlantic City Convention Center\, 1 Convention Blvd\, Atlantic City\, New Jersey\, 08401
CATEGORIES:Conference
ATTACH;FMTTYPE=image/jpeg:https://integratedcareconcepts.com/wp-content/uploads/nj-school-boards-association-conference.jpg
END:VEVENT
BEGIN:VEVENT
DTSTART;TZID=America/New_York:20251021T080000
DTEND;TZID=America/New_York:20251022T163000
DTSTAMP:20260420T110437
CREATED:20250827T155512Z
LAST-MODIFIED:20250827T162241Z
UID:10000083-1761033600-1761150600@integratedcareconcepts.com
SUMMARY:NJSBA's Workshop 2025
DESCRIPTION:Education excellence will take center stage at Workshop 2025! Join us from Monday\, Oct. 20 through Thursday\, Oct. 23 at the Atlantic City Convention Center for a conference unlike any other. Registration and housing are open.
URL:https://integratedcareconcepts.com/event/njsbas-workshop-2025/
LOCATION:Atlantic City Convention Center\, 1 Convention Blvd\, Atlantic City\, New Jersey\, 08401
CATEGORIES:Conference
ATTACH;FMTTYPE=image/jpeg:https://integratedcareconcepts.com/wp-content/uploads/njsba-workshop-2025.jpg
END:VEVENT
END:VCALENDAR