BEGIN:VCALENDAR
VERSION:2.0
PRODID:-//Integrated Care Concepts And Consultation - ECPv6.15.20//NONSGML v1.0//EN
CALSCALE:GREGORIAN
METHOD:PUBLISH
X-WR-CALNAME:Integrated Care Concepts And Consultation
X-ORIGINAL-URL:https://integratedcareconcepts.com
X-WR-CALDESC:Events for Integrated Care Concepts And Consultation
REFRESH-INTERVAL;VALUE=DURATION:PT1H
X-Robots-Tag:noindex
X-PUBLISHED-TTL:PT1H
BEGIN:VTIMEZONE
TZID:America/New_York
BEGIN:DAYLIGHT
TZOFFSETFROM:-0500
TZOFFSETTO:-0400
TZNAME:EDT
DTSTART:20250309T070000
END:DAYLIGHT
BEGIN:STANDARD
TZOFFSETFROM:-0400
TZOFFSETTO:-0500
TZNAME:EST
DTSTART:20251102T060000
END:STANDARD
BEGIN:DAYLIGHT
TZOFFSETFROM:-0500
TZOFFSETTO:-0400
TZNAME:EDT
DTSTART:20260308T070000
END:DAYLIGHT
BEGIN:STANDARD
TZOFFSETFROM:-0400
TZOFFSETTO:-0500
TZNAME:EST
DTSTART:20261101T060000
END:STANDARD
BEGIN:DAYLIGHT
TZOFFSETFROM:-0500
TZOFFSETTO:-0400
TZNAME:EDT
DTSTART:20270314T070000
END:DAYLIGHT
BEGIN:STANDARD
TZOFFSETFROM:-0400
TZOFFSETTO:-0500
TZNAME:EST
DTSTART:20271107T060000
END:STANDARD
END:VTIMEZONE
BEGIN:VEVENT
DTSTART;TZID=America/New_York:20260923T110000
DTEND;TZID=America/New_York:20260923T130000
DTSTAMP:20260421T014055
CREATED:20260309T135836Z
LAST-MODIFIED:20260309T135838Z
UID:8956-1790161200-1790168400@integratedcareconcepts.com
SUMMARY:Lunch and Learn
DESCRIPTION:Our Lunch & Learn series with SCAN provides older adults with a chance to gather\, enjoy lunch\, and take part in an informative presentation focused on topics that support wellness\, mental health\, and everyday quality of life. These sessions are designed to encourage learning\, conversation\, and community connection in a relaxed setting. \n\n\n\nAgenda: \n\n\n\n\nLearn more about NJASC\n\n\n\nHear what NJ DoAS has to offer\n\n\n\nShare your ideas & knowledge\n\n\n\nGet to know your fellow aging professionals!\n\n\n\nAnd more!!!\n\n\n\n\nNetworking lunch to follow \n\n\n\nRegistration Required! \n\n\n\nQuestions? Email NJASC25@gmail.com
URL:https://integratedcareconcepts.com/event/lunch-and-learn-20260923/
LOCATION:Toms River Senior Center\, 652 Garfield Ave\, Toms River\, New Jersey\, 08753
CATEGORIES:Event
ATTACH;FMTTYPE=image/jpeg:https://integratedcareconcepts.com/wp-content/uploads/lunch-and-learn-2.jpg
END:VEVENT
END:VCALENDAR