BEGIN:VCALENDAR
VERSION:2.0
PRODID:-//Integrated Care Concepts And Consultation - ECPv6.15.20//NONSGML v1.0//EN
CALSCALE:GREGORIAN
METHOD:PUBLISH
X-WR-CALNAME:Integrated Care Concepts And Consultation
X-ORIGINAL-URL:https://integratedcareconcepts.com
X-WR-CALDESC:Events for Integrated Care Concepts And Consultation
REFRESH-INTERVAL;VALUE=DURATION:PT1H
X-Robots-Tag:noindex
X-PUBLISHED-TTL:PT1H
BEGIN:VTIMEZONE
TZID:America/New_York
BEGIN:DAYLIGHT
TZOFFSETFROM:-0500
TZOFFSETTO:-0400
TZNAME:EDT
DTSTART:20250309T070000
END:DAYLIGHT
BEGIN:STANDARD
TZOFFSETFROM:-0400
TZOFFSETTO:-0500
TZNAME:EST
DTSTART:20251102T060000
END:STANDARD
BEGIN:DAYLIGHT
TZOFFSETFROM:-0500
TZOFFSETTO:-0400
TZNAME:EDT
DTSTART:20260308T070000
END:DAYLIGHT
BEGIN:STANDARD
TZOFFSETFROM:-0400
TZOFFSETTO:-0500
TZNAME:EST
DTSTART:20261101T060000
END:STANDARD
BEGIN:DAYLIGHT
TZOFFSETFROM:-0500
TZOFFSETTO:-0400
TZNAME:EDT
DTSTART:20270314T070000
END:DAYLIGHT
BEGIN:STANDARD
TZOFFSETFROM:-0400
TZOFFSETTO:-0500
TZNAME:EST
DTSTART:20271107T060000
END:STANDARD
END:VTIMEZONE
BEGIN:VEVENT
DTSTART;TZID=America/New_York:20260516T140000
DTEND;TZID=America/New_York:20260516T190000
DTSTAMP:20260421T013916
CREATED:20260417T132121Z
LAST-MODIFIED:20260417T132455Z
UID:9015-1778940000-1778958000@integratedcareconcepts.com
SUMMARY:Community Art Event
DESCRIPTION:Join us for a powerful community art event centered on LGBTQ+ resilience\, holistic well-being\, and creative expression. These gathering uplifts the connection between mind and body\, honoring art as a pathway to healing\, empowerment\, and self-discovery. \n\n\n\nThis event creates space for REFLECTION\, RESTORATION\, and CONNECTION\, celebrating not only survival\, but the thriving of our communities through holistic practices\, creativity\, and shared humanity. \n\n\n\nWe welcome submissions from artists of all backgrounds whose work explores themes of resilience\, mental and physical wellness\, cultural identity\, and community healing. \n\n\n\nSubmit your work to:Larissa Garcia – garcia@gardenstateequality.org Juan Carlos Barrera – jbarrera@integratedcareconcepts.com
URL:https://integratedcareconcepts.com/event/community-art-event/
LOCATION:1 Radar Way\, Tinton Falls\, New Jersey\, 07724
CATEGORIES:Event
ATTACH;FMTTYPE=image/jpeg:https://integratedcareconcepts.com/wp-content/uploads/community-art-event-2026-2.jpg
END:VEVENT
END:VCALENDAR